BEGIN:VCALENDAR
VERSION:2.0
PRODID:-//Amber Roberts - ECPv6.15.20//NONSGML v1.0//EN
CALSCALE:GREGORIAN
METHOD:PUBLISH
X-ORIGINAL-URL:https://amberrobertswrites.com
X-WR-CALDESC:Events for Amber Roberts
REFRESH-INTERVAL;VALUE=DURATION:PT1H
X-Robots-Tag:noindex
X-PUBLISHED-TTL:PT1H
BEGIN:VTIMEZONE
TZID:UTC
BEGIN:STANDARD
TZOFFSETFROM:+0000
TZOFFSETTO:+0000
TZNAME:UTC
DTSTART:20220101T000000
END:STANDARD
END:VTIMEZONE
BEGIN:VTIMEZONE
TZID:America/Chicago
BEGIN:DAYLIGHT
TZOFFSETFROM:-0600
TZOFFSETTO:-0500
TZNAME:CDT
DTSTART:20230312T080000
END:DAYLIGHT
BEGIN:STANDARD
TZOFFSETFROM:-0500
TZOFFSETTO:-0600
TZNAME:CST
DTSTART:20231105T070000
END:STANDARD
BEGIN:DAYLIGHT
TZOFFSETFROM:-0600
TZOFFSETTO:-0500
TZNAME:CDT
DTSTART:20240310T080000
END:DAYLIGHT
BEGIN:STANDARD
TZOFFSETFROM:-0500
TZOFFSETTO:-0600
TZNAME:CST
DTSTART:20241103T070000
END:STANDARD
BEGIN:DAYLIGHT
TZOFFSETFROM:-0600
TZOFFSETTO:-0500
TZNAME:CDT
DTSTART:20250309T080000
END:DAYLIGHT
BEGIN:STANDARD
TZOFFSETFROM:-0500
TZOFFSETTO:-0600
TZNAME:CST
DTSTART:20251102T070000
END:STANDARD
END:VTIMEZONE
BEGIN:VTIMEZONE
TZID:America/New_York
BEGIN:DAYLIGHT
TZOFFSETFROM:-0500
TZOFFSETTO:-0400
TZNAME:EDT
DTSTART:20220313T070000
END:DAYLIGHT
BEGIN:STANDARD
TZOFFSETFROM:-0400
TZOFFSETTO:-0500
TZNAME:EST
DTSTART:20221106T060000
END:STANDARD
BEGIN:DAYLIGHT
TZOFFSETFROM:-0500
TZOFFSETTO:-0400
TZNAME:EDT
DTSTART:20230312T070000
END:DAYLIGHT
BEGIN:STANDARD
TZOFFSETFROM:-0400
TZOFFSETTO:-0500
TZNAME:EST
DTSTART:20231105T060000
END:STANDARD
BEGIN:DAYLIGHT
TZOFFSETFROM:-0500
TZOFFSETTO:-0400
TZNAME:EDT
DTSTART:20240310T070000
END:DAYLIGHT
BEGIN:STANDARD
TZOFFSETFROM:-0400
TZOFFSETTO:-0500
TZNAME:EST
DTSTART:20241103T060000
END:STANDARD
END:VTIMEZONE
BEGIN:VEVENT
DTSTART;TZID=UTC:20250828T183000
DTEND;TZID=UTC:20250828T193000
DTSTAMP:20260423T175737
CREATED:20250808T130117Z
LAST-MODIFIED:20250808T130302Z
UID:3033-1756405800-1756409400@amberrobertswrites.com
SUMMARY:Happily Ever After: A Romance Chat with Vermont Author Amber Roberts
DESCRIPTION:Join Vermont romance author Amber Roberts for a casual reader chat! This laid-back romance reader event is an exploration of favorite titles\, themes\, and tropes in the romance genre. Bring your friends\, bring your book recs\, and connect with other romance fans! Craft a cute bookmark\, shout out your favorite romance titles and authors\, add new titles to your TBR\, and enjoy refreshments courtesy of the Friends of the McCullough Library. \nReservations aren’t required for this free event and all are welcome\, but you can RSVP and follow for updates on Facebook.
URL:https://amberrobertswrites.com/event/happily-ever-after-a-romance-chat-with-vermont-author-amber-roberts/
LOCATION:The Left Bank\, 5 Bank Street\, North Bennington\, VT\, 05257\, United States
CATEGORIES:Library Events
ATTACH;FMTTYPE=image/png:https://amberrobertswrites.com/wp-content/uploads/2025/08/Beige-Vintage-Photo-Collage-Scrapbook-Instagram-Post-1-1.png
END:VEVENT
BEGIN:VEVENT
DTSTART;TZID=UTC:20241112T183000
DTEND;TZID=UTC:20241112T200000
DTSTAMP:20260423T175737
CREATED:20241031T145833Z
LAST-MODIFIED:20241031T145833Z
UID:2036-1731436200-1731441600@amberrobertswrites.com
SUMMARY:Romance Dark & Sweet at Phoenix Books\, Rutland VT
DESCRIPTION:Join Isa Ingram and me at Phoenix Books Rutland for an author event on November 12th at 6:30! The theme is Romance Dark and Sweet. Phoenix Books says: \nPlease join us at Phoenix Books Rutland for an evening with Vermont authors Amber Roberts and Isa Ingram. Amber and Isa will be chatting about their recently released novels; both romances but with very different undertones. \nDATE: Tuesday\, November 12th\, 6:30 pm \nLOCATION: Phoenix Books\, 2 Center Street\, Rutland\, VT 05701 \nADMISSION: This event is free and open to all. \nBOOKS: Signed copies of Haunt Your Heart Out and If the Darkness Had Wings will be available at the event. Can’t make it to the event but still want to purchase a signed\, personalized copy? Please call our Rutland store to order at 802-855-8078. Copies will be available after the event on November 12th. If you ordered a book for store pick up\, we will contact you as soon as it’s ready. If you ordered a book with shipping\, please allow an additional 7-10 days for delivery.
URL:https://amberrobertswrites.com/event/romance-dark-sweet-at-phoenix-books-rutland-vt/
LOCATION:Phoenix Books\, Rutland\, 2 Center Street\, Rutland\, VT\, 05701\, United States
ATTACH;FMTTYPE=image/jpeg:https://amberrobertswrites.com/wp-content/uploads/2024/10/Roberts-Ingram-111224-EB.jpg
END:VEVENT
BEGIN:VEVENT
DTSTART;TZID=UTC:20241102T150000
DTEND;TZID=UTC:20241102T160000
DTSTAMP:20260423T175737
CREATED:20241001T165625Z
LAST-MODIFIED:20241010T131100Z
UID:1955-1730559600-1730563200@amberrobertswrites.com
SUMMARY:Green Mountain Book Festival - Romantasy Panel
DESCRIPTION:Come to the Green Mountain Book Festival on November 2nd from 3:00 – 4:00 pm to check out the Romantasy: An Emerging Genre panel with authors Katherine Arden\, Laurie Forest\, and Madison Rene\, and moderated by Amber Roberts (me!). Authors will be signing books after the panel—bring your personal copies or get books from Phoenix Books\, who will be onsite. \nPanels and events all day at The Fletcher Free Library!  Full event schedule
URL:https://amberrobertswrites.com/event/green-mountain-book-festival-romantasy-panel/
LOCATION:Fletcher Free Library\, Vermont
CATEGORIES:Conventions
END:VEVENT
BEGIN:VEVENT
DTSTART;TZID=UTC:20241030T183000
DTEND;TZID=UTC:20241030T193000
DTSTAMP:20260423T175737
CREATED:20241010T131927Z
LAST-MODIFIED:20241010T132047Z
UID:1980-1730313000-1730316600@amberrobertswrites.com
SUMMARY:Sweet & Spooky Book Night at Phoenix Books
DESCRIPTION:Phoenix Book in Essex is thrilled to present a Sweet and Spooky Night featuring Amber Roberts and Jackson Ellis!  Amber and Jackson will be joining us to chat about their new novels\, which are both set in Vermont! Starts at 6:30PM.
URL:https://amberrobertswrites.com/event/sweet-spooky-book-night-at-phoenix-books/
LOCATION:Phoenix Books\, Essex\, 2 Carmichael St\, Essex\, VT\, 05452\, United States
CATEGORIES:Bookstore Events
ATTACH;FMTTYPE=image/jpeg:https://amberrobertswrites.com/wp-content/uploads/2024/10/Sweet-Spooky-103024-EB-1.jpg
END:VEVENT
BEGIN:VEVENT
DTSTART;TZID=UTC:20241025T180000
DTEND;TZID=UTC:20241025T190000
DTSTAMP:20260423T175737
CREATED:20240611T174115Z
LAST-MODIFIED:20241010T131906Z
UID:1626-1729879200-1729882800@amberrobertswrites.com
SUMMARY:Northshire Bookstore\, Manchester Vermont
DESCRIPTION:Amber Roberts will be in conversation with Rachel Lacey at Northshire Bookstore in Manchester Vermont. From Northshire: \nThis is an in person event at our Manchester Center\, VT store! \nRomance authors Amber Roberts and Rachel Lacey will join us to discuss their newest steamy\, sweet\, and sometimes spooky novels (both set in Vermont!) A dashing ghost hunter and the bookseller who made up the ghosts he’s chasing wind up entangled in more ways than one in Haunt Your Heart Out. When a driven businesswoman from Boston collides with a free-spirited artist on a Vermont mountainside\, they share a memorable-and steamy-night\, but life soon pits them against each other over the fate of a family business in The View from the Top.
URL:https://amberrobertswrites.com/event/northshire-bookstore-manchester-vermont/
LOCATION:Northshire Bookstore\, 4869 Main St\, Manchester Center\, VT\, 05255\, United States
CATEGORIES:Bookstore Events
ATTACH;FMTTYPE=image/jpeg:https://amberrobertswrites.com/wp-content/uploads/2024/06/98cadaca-fd4d-4912-8a21-2f8c8eee2d78.jpg
END:VEVENT
BEGIN:VEVENT
DTSTART;TZID=UTC:20241019T130000
DTEND;TZID=UTC:20241019T150000
DTSTAMP:20260423T175737
CREATED:20240522T133112Z
LAST-MODIFIED:20240805T140905Z
UID:1574-1729342800-1729350000@amberrobertswrites.com
SUMMARY:Author Signing at Bear Pond Books in Stowe\, Vermont
DESCRIPTION:I will be signing books at an author meet and greet event at Bear Pond Books in Stowe\, Vermont on October 19\, 2024 from 1-3PM! Stowe is where Haunt Your Heart Out is set\, and is one of my favorite Vermont areas. October is a perfect month to visit: You’ve got stunning foliage\, apple cider\, and crisp autumn air. Come on by Bear Pond Books to get a signed copy of Haunt Your Heart Out or Text Appeal! \nTickets are not required for this Meet & Greet book signing event\, but you can RSVP on Facebook for updates! Stop by anytime between 1-3 to chat\, get some free HYHO book swag\, and get signed copies of my Vermont-set romance novels!
URL:https://amberrobertswrites.com/event/author-signing-at-bear-pond-books-in-stowe-vermont/
LOCATION:Bear Pond Books – Stowe\, Vermont\, 38 Main Street\, Stowe\, VT\, 05672\, United States
END:VEVENT
BEGIN:VEVENT
DTSTART;TZID=America/Chicago:20240906T080000
DTEND;TZID=America/Chicago:20240907T170000
DTSTAMP:20260423T175737
CREATED:20240814T144350Z
LAST-MODIFIED:20240814T144641Z
UID:1821-1725609600-1725728400@amberrobertswrites.com
SUMMARY:Romance Con\, Milwaukee\, WI
DESCRIPTION:I’m going to be at Romance Con in Milwaukee\, WI on September 6 & 7\, 2024! I’m so excited to meet authors I love\, visit with readers\, and attend the masquerade ball in costume. I can’t wait! \nI will have copies of Text Appeal on-hand to sign\, while supplies last\, or bring your own copy and I’ll sign it. Grab all kinds of book swag\, and show me proof of pre-order of Haunt Your Heart Out and get pre-order swag\, including a signed bookplate\, at the event. \n\nOrder a copy of Text Appeal for pick up at the event\nView the schedule of events\nSee which authors are attending\n\n 
URL:https://amberrobertswrites.com/event/romance-con-milwaukee-wi/
LOCATION:Baird Center in Milwaukee\, Wisconsin\, 400 W Wisconsin Ave\, Milwaukee\, WI\, 53203\, United States
CATEGORIES:Conventions
ATTACH;FMTTYPE=image/jpeg:https://amberrobertswrites.com/wp-content/uploads/2024/08/Amber-Roberts-Romance-Con-Milwaukee-Wisconsin.jpg
END:VEVENT
BEGIN:VEVENT
DTSTART;TZID=UTC:20231005T190000
DTEND;TZID=UTC:20231005T200000
DTSTAMP:20260423T175737
CREATED:20230915T115502Z
LAST-MODIFIED:20230915T115502Z
UID:1178-1696532400-1696536000@amberrobertswrites.com
SUMMARY:Romance Readers Night with Amber Roberts and smuttybookreviews
DESCRIPTION:Thursday\, October 5\, 2023 – 7:00pm\n\n\n			\n				\n			\n			\n				\n			\n			\n				\n			\n			\n				\n			\n		\n\n\n\n\n\n\n\nBear Pond Books is feeling the romance and we’d love to invite you to our very first Romance Readers Night! Join romance author Amber Roberts as she reads from her new release\, Text Appeal\, along with Instagram influencer smuttybookreviews as we share a fiery\, adults-only conversation about all things romance. Connect with fellow romance readers over snacks and beverages and bring your steamiest romance recommendations to share.  \n \n\n\n\n  \n\n\n\n\n\n\n\n\n\n\nView this profile on Instagram\n\n\n\n\n\n\n\n\n\n\n\n\n\n\n\n\n\n\n\n\n\n\n  \nSmutty Book Reviews (@smuttybookreviews) • Instagram photos and videos
URL:https://amberrobertswrites.com/event/romance-readers-night-with-amber-roberts-and-smuttybookreviews/
LOCATION:Bear Pond Books\, 77 Main Street\, Montpelier\, VT\, 05602\, United States
CATEGORIES:Bookstore Events
ATTACH;FMTTYPE=image/png:https://amberrobertswrites.com/wp-content/uploads/2023/09/Romance-Night-FB.png
END:VEVENT
BEGIN:VEVENT
DTSTART;TZID=America/New_York:20230819T130000
DTEND;TZID=America/New_York:20230819T150000
DTSTAMP:20260423T175737
CREATED:20230817T105939Z
LAST-MODIFIED:20230817T105939Z
UID:1150-1692450000-1692457200@amberrobertswrites.com
SUMMARY:Bookstore Romance Day: Phoenix Books\, Rutland Vermont
DESCRIPTION:❤️Celebrate Bookstore Romance Day at Phoenix Books Rutland!❤️ \nI’ll be at Phoenix Books in Rutland Vermont on Saturday\, August 19th! Come say hi between 1PM-3PM. I’ll be signing copies of Text Appeal\, giving away some book swag\, and offering up book recommendations to any who are brave enough to ask. \nPhoenix Books is going all out for this event: \n🍪Light refreshments will be provided! \n💰 Discounts on romance books! \n📚 “Blind Date with a Book” \n(Full event goes from 10 – 6)
URL:https://amberrobertswrites.com/event/bookstore-romance-day-phoenix-books-rutland-vermont/
LOCATION:Phoenix Books\, Rutland\, 2 Center Street\, Rutland\, VT\, 05701\, United States
CATEGORIES:Bookstore Events
ATTACH;FMTTYPE=image/jpeg:https://amberrobertswrites.com/wp-content/uploads/2023/08/RUT-Romance-Day-081923-EB.jpg
END:VEVENT
BEGIN:VEVENT
DTSTART;TZID=America/New_York:20230811T180000
DTEND;TZID=America/New_York:20230811T180000
DTSTAMP:20260423T175737
CREATED:20230721T173954Z
LAST-MODIFIED:20230721T175845Z
UID:1040-1691776800-1691776800@amberrobertswrites.com
SUMMARY:Book Release Celebration: “Text Appeal” by Amber Roberts
DESCRIPTION:Join Vermont author Amber Roberts at the FREE Text Appeal book launch event at Northshire Bookstore in Manchester\, Vermont! Authors Amber Roberts and Audrey Ruoff will chat about the Burlington\, Vermont-set novel Text Appeal\, favorite book tropes\, and all things romance at this book discussion event. Come out August 11 at 6pm to listen in on the conversation\, jump into the romance genre Q&A\, help yourself to some light refreshments\, and get a signed copy of Text Appeal. \nKeep an eye on Instagram for news and updates. The event is free\, but you can RSVP via Facebook if you’d like to help spread the word!
URL:https://amberrobertswrites.com/event/book-release-celebration-text-appeal-by-amber-roberts/
LOCATION:Northshire Bookstore\, 4869 Main St\, Manchester Center\, VT\, 05255\, United States
CATEGORIES:Bookstore Events
ATTACH;FMTTYPE=image/png:https://amberrobertswrites.com/wp-content/uploads/2023/07/Title-Page.png
END:VEVENT
END:VCALENDAR